BEGIN:VCALENDAR
VERSION:2.0
PRODID:-//Stratis iCal API//FR
CALSCALE:GREGORIAN
X-WR-CALNAME:Les Amis de Goma - Barbecue solidaire
BEGIN:VEVENT
UID:event-21522
SUMMARY:Les Amis de Goma - Barbecue solidaire
DESCRIPTION:
DTSTAMP:20240614T063916Z
DTSTART:20240908T103000Z
DTEND:20240908T103000Z
STATUS:CONFIRMED
SEQUENCE:8
BEGIN:VALARM
TRIGGER:-PT30M
DESCRIPTION:Les Amis de Goma - Barbecue solidaire
ACTION:DISPLAY
END:VALARM
END:VEVENT
END:VCALENDAR