BEGIN:VCALENDAR
VERSION:2.0
PRODID:-//Stratis iCal API//FR
CALSCALE:GREGORIAN
X-WR-CALNAME:Relais de la Flamme Olympique au Havre
BEGIN:VEVENT
UID:event-21405
SUMMARY:Relais de la Flamme Olympique au Havre
DESCRIPTION:À l’occasion du passage au Havre de la Flamme Olympique des Jeux de Paris 2024 le 5 juillet prochain  la Ville organise une journée d’animations sportives et festives.
DTSTAMP:20240527T084753Z
DTSTART:20240705T120000Z
DTEND:20240705T210000Z
STATUS:CONFIRMED
SEQUENCE:10
BEGIN:VALARM
TRIGGER:-PT30M
DESCRIPTION:Relais de la Flamme Olympique au Havre
ACTION:DISPLAY
END:VALARM
END:VEVENT
END:VCALENDAR