BEGIN:VCALENDAR
VERSION:2.0
PRODID:-//Stratis iCal API//FR
CALSCALE:GREGORIAN
X-WR-CALNAME:Gromesnil dans tous ses états
BEGIN:VEVENT
UID:event-21315
SUMMARY:Gromesnil dans tous ses états
DESCRIPTION:Le Havre Seine Métropole  en collaboration avec l’association La Hêtraie  présente la 7e édition de "Gromesnil dans tous ses états" qui se déroulera les 4 et 5 mai 2024.
DTSTAMP:20240426T081559Z
DTSTART:20240504T080000Z
DTEND:20240505T160000Z
STATUS:CONFIRMED
SEQUENCE:10
BEGIN:VALARM
TRIGGER:-PT30M
DESCRIPTION:Gromesnil dans tous ses états
ACTION:DISPLAY
END:VALARM
END:VEVENT
END:VCALENDAR