BEGIN:VCALENDAR
VERSION:2.0
PRODID:-//Stratis iCal API//FR
CALSCALE:GREGORIAN
X-WR-CALNAME:Cérémonie du 11 novembre 2024
BEGIN:VEVENT
UID:event-20608
SUMMARY:Cérémonie du 11 novembre 2024
DESCRIPTION:Le Maire et les Membres du Conseil Municipal invitent les anciens combattants  les enfants des écoles et la population à commémorer le 106ème anniversaire de l’armistice de 1918.
DTSTAMP:20231204T130053Z
DTSTART:20241111T094500Z
DTEND:20241111T094500Z
STATUS:CONFIRMED
SEQUENCE:7
BEGIN:VALARM
TRIGGER:-PT30M
DESCRIPTION:Cérémonie du 11 novembre 2024
ACTION:DISPLAY
END:VALARM
END:VEVENT
END:VCALENDAR